BEGIN:VCALENDAR
VERSION:2.0
PRODID:-//S.V. Loosduinen - ECPv6.15.18//NONSGML v1.0//EN
CALSCALE:GREGORIAN
METHOD:PUBLISH
X-ORIGINAL-URL:https://www.svloosduinen.com
X-WR-CALDESC:Evenementen voor S.V. Loosduinen
REFRESH-INTERVAL;VALUE=DURATION:PT1H
X-Robots-Tag:noindex
X-PUBLISHED-TTL:PT1H
BEGIN:VTIMEZONE
TZID:Europe/Amsterdam
BEGIN:DAYLIGHT
TZOFFSETFROM:+0100
TZOFFSETTO:+0200
TZNAME:CEST
DTSTART:20250330T010000
END:DAYLIGHT
BEGIN:STANDARD
TZOFFSETFROM:+0200
TZOFFSETTO:+0100
TZNAME:CET
DTSTART:20251026T010000
END:STANDARD
BEGIN:DAYLIGHT
TZOFFSETFROM:+0100
TZOFFSETTO:+0200
TZNAME:CEST
DTSTART:20260329T010000
END:DAYLIGHT
BEGIN:STANDARD
TZOFFSETFROM:+0200
TZOFFSETTO:+0100
TZNAME:CET
DTSTART:20261025T010000
END:STANDARD
BEGIN:DAYLIGHT
TZOFFSETFROM:+0100
TZOFFSETTO:+0200
TZNAME:CEST
DTSTART:20270328T010000
END:DAYLIGHT
BEGIN:STANDARD
TZOFFSETFROM:+0200
TZOFFSETTO:+0100
TZNAME:CET
DTSTART:20271031T010000
END:STANDARD
END:VTIMEZONE
BEGIN:VEVENT
DTSTART;TZID=Europe/Amsterdam:20260527T120000
DTEND;TZID=Europe/Amsterdam:20260527T160000
DTSTAMP:20260419T145156
CREATED:20251004T183948Z
LAST-MODIFIED:20251004T183948Z
UID:75449-1779883200-1779897600@www.svloosduinen.com
SUMMARY:Loosduins Schoolvoetbaltoernooi
DESCRIPTION:
URL:https://www.svloosduinen.com/event/loosduins-schoolvoetbaltoernooi-3/
CATEGORIES:Evenement
END:VEVENT
BEGIN:VEVENT
DTSTART;TZID=Europe/Amsterdam:20260530T183000
DTEND;TZID=Europe/Amsterdam:20260530T235900
DTSTAMP:20260419T145156
CREATED:20250831T123143Z
LAST-MODIFIED:20251104T044024Z
UID:74894-1780165800-1780185540@www.svloosduinen.com
SUMMARY:Klaverjassen-Help Toos de berg op
DESCRIPTION:
URL:https://www.svloosduinen.com/event/klaverjassen-help-toos-de-berg-op/
CATEGORIES:Evenement,Klaverjassen
END:VEVENT
END:VCALENDAR