BEGIN:VCALENDAR
VERSION:2.0
PRODID:-//S.V. Loosduinen - ECPv6.15.18//NONSGML v1.0//EN
CALSCALE:GREGORIAN
METHOD:PUBLISH
X-ORIGINAL-URL:https://www.svloosduinen.com
X-WR-CALDESC:Evenementen voor S.V. Loosduinen
REFRESH-INTERVAL;VALUE=DURATION:PT1H
X-Robots-Tag:noindex
X-PUBLISHED-TTL:PT1H
BEGIN:VTIMEZONE
TZID:Europe/Amsterdam
BEGIN:DAYLIGHT
TZOFFSETFROM:+0100
TZOFFSETTO:+0200
TZNAME:CEST
DTSTART:20240331T010000
END:DAYLIGHT
BEGIN:STANDARD
TZOFFSETFROM:+0200
TZOFFSETTO:+0100
TZNAME:CET
DTSTART:20241027T010000
END:STANDARD
BEGIN:DAYLIGHT
TZOFFSETFROM:+0100
TZOFFSETTO:+0200
TZNAME:CEST
DTSTART:20250330T010000
END:DAYLIGHT
BEGIN:STANDARD
TZOFFSETFROM:+0200
TZOFFSETTO:+0100
TZNAME:CET
DTSTART:20251026T010000
END:STANDARD
BEGIN:DAYLIGHT
TZOFFSETFROM:+0100
TZOFFSETTO:+0200
TZNAME:CEST
DTSTART:20260329T010000
END:DAYLIGHT
BEGIN:STANDARD
TZOFFSETFROM:+0200
TZOFFSETTO:+0100
TZNAME:CET
DTSTART:20261025T010000
END:STANDARD
BEGIN:DAYLIGHT
TZOFFSETFROM:+0100
TZOFFSETTO:+0200
TZNAME:CEST
DTSTART:20270328T010000
END:DAYLIGHT
BEGIN:STANDARD
TZOFFSETFROM:+0200
TZOFFSETTO:+0100
TZNAME:CET
DTSTART:20271031T010000
END:STANDARD
END:VTIMEZONE
BEGIN:VEVENT
DTSTART;TZID=Europe/Amsterdam:20260401T170000
DTEND;TZID=Europe/Amsterdam:20260401T210000
DTSTAMP:20260419T162318
CREATED:20251005T193222Z
LAST-MODIFIED:20251005T193222Z
UID:75471-1775062800-1775077200@www.svloosduinen.com
SUMMARY:Paas-bubbel-toernooi
DESCRIPTION:
URL:https://www.svloosduinen.com/event/paas-bubbel-toernooi/
CATEGORIES:Evenement
END:VEVENT
BEGIN:VEVENT
DTSTART;TZID=Europe/Amsterdam:20260218T170000
DTEND;TZID=Europe/Amsterdam:20260218T200000
DTSTAMP:20260419T162318
CREATED:20251005T193131Z
LAST-MODIFIED:20251005T193131Z
UID:75469-1771434000-1771444800@www.svloosduinen.com
SUMMARY:SIM race (jeugd)
DESCRIPTION:
URL:https://www.svloosduinen.com/event/sim-race-jeugd/
CATEGORIES:Evenement
END:VEVENT
BEGIN:VEVENT
DTSTART;TZID=Europe/Amsterdam:20260206T193000
DTEND;TZID=Europe/Amsterdam:20260206T235900
DTSTAMP:20260419T162318
CREATED:20260130T151419Z
LAST-MODIFIED:20260130T151419Z
UID:76688-1770406200-1770422340@www.svloosduinen.com
SUMMARY:Medewerkersavond
DESCRIPTION:
URL:https://www.svloosduinen.com/event/medewerkersavond-4/
CATEGORIES:Evenement
END:VEVENT
BEGIN:VEVENT
DTSTART;VALUE=DATE:20251227
DTEND;VALUE=DATE:20251228
DTSTAMP:20260419T162318
CREATED:20251005T193029Z
LAST-MODIFIED:20251005T193043Z
UID:75466-1766793600-1766879999@www.svloosduinen.com
SUMMARY:Oliebollen/lichtjes toernooi Jeugd
DESCRIPTION:
URL:https://www.svloosduinen.com/event/oliebollen-lichtjes-toernooi/
CATEGORIES:Evenement
END:VEVENT
BEGIN:VEVENT
DTSTART;TZID=Europe/Amsterdam:20251201T170000
DTEND;TZID=Europe/Amsterdam:20251201T200000
DTSTAMP:20260419T162318
CREATED:20251005T192928Z
LAST-MODIFIED:20251005T192928Z
UID:75464-1764608400-1764619200@www.svloosduinen.com
SUMMARY:Sinterklaasfeest jongste jeugd
DESCRIPTION:
URL:https://www.svloosduinen.com/event/sinterklaasfeest-jongste-jeugd-2/
CATEGORIES:Evenement
END:VEVENT
BEGIN:VEVENT
DTSTART;TZID=Europe/Amsterdam:20251025T180000
DTEND;TZID=Europe/Amsterdam:20251025T210000
DTSTAMP:20260419T162318
CREATED:20251005T192824Z
LAST-MODIFIED:20251005T192824Z
UID:75462-1761415200-1761426000@www.svloosduinen.com
SUMMARY:Halloween Jeugd
DESCRIPTION:
URL:https://www.svloosduinen.com/event/halloween-jeugd/
CATEGORIES:Evenement
END:VEVENT
BEGIN:VEVENT
DTSTART;VALUE=DATE:20250614
DTEND;VALUE=DATE:20250615
DTSTAMP:20260419T162318
CREATED:20250117T144239Z
LAST-MODIFIED:20250117T144239Z
UID:72848-1749859200-1749945599@www.svloosduinen.com
SUMMARY:Familiedag 2025
DESCRIPTION:
URL:https://www.svloosduinen.com/event/familiedag-2025/
CATEGORIES:Evenement
END:VEVENT
END:VCALENDAR